BEGIN:VCALENDAR
VERSION:2.0
PRODID:-//FWG Oelde - ECPv6.14.2//NONSGML v1.0//EN
CALSCALE:GREGORIAN
METHOD:PUBLISH
X-WR-CALNAME:FWG Oelde
X-ORIGINAL-URL:https://fwg-oelde.de
X-WR-CALDESC:Veranstaltungen für FWG Oelde
REFRESH-INTERVAL;VALUE=DURATION:PT1H
X-Robots-Tag:noindex
X-PUBLISHED-TTL:PT1H
BEGIN:VTIMEZONE
TZID:Europe/Berlin
BEGIN:DAYLIGHT
TZOFFSETFROM:+0100
TZOFFSETTO:+0200
TZNAME:CEST
DTSTART:20250330T010000
END:DAYLIGHT
BEGIN:STANDARD
TZOFFSETFROM:+0200
TZOFFSETTO:+0100
TZNAME:CET
DTSTART:20251026T010000
END:STANDARD
END:VTIMEZONE
BEGIN:VEVENT
DTSTART;TZID=Europe/Berlin:20251031T000000
DTEND;TZID=Europe/Berlin:20251031T235959
DTSTAMP:20260420T202045
CREATED:20250326T093602Z
LAST-MODIFIED:20250326T093603Z
UID:3336-1761868800-1761955199@fwg-oelde.de
SUMMARY:Reformationstag
DESCRIPTION:Reformationstag
URL:https://fwg-oelde.de/event/reformationstag-2-2/
LOCATION:NRW
CATEGORIES:Feiertag_kirchlich
END:VEVENT
BEGIN:VEVENT
DTSTART;TZID=Europe/Berlin:20251031T000000
DTEND;TZID=Europe/Berlin:20251031T235959
DTSTAMP:20260420T202045
CREATED:20250326T105113Z
LAST-MODIFIED:20250326T105209Z
UID:3402-1761868800-1761955199@fwg-oelde.de
SUMMARY:Ende der Wahlperiode 2020 - 2025
DESCRIPTION:
URL:https://fwg-oelde.de/event/ende-der-wahlperiode-2020-2025/
LOCATION:NRW
END:VEVENT
END:VCALENDAR