BEGIN:VCALENDAR
VERSION:2.0
PRODID:-//FWG Oelde - ECPv6.14.2//NONSGML v1.0//EN
CALSCALE:GREGORIAN
METHOD:PUBLISH
X-WR-CALNAME:FWG Oelde
X-ORIGINAL-URL:https://fwg-oelde.de
X-WR-CALDESC:Veranstaltungen für FWG Oelde
REFRESH-INTERVAL;VALUE=DURATION:PT1H
X-Robots-Tag:noindex
X-PUBLISHED-TTL:PT1H
BEGIN:VTIMEZONE
TZID:Europe/Berlin
BEGIN:DAYLIGHT
TZOFFSETFROM:+0100
TZOFFSETTO:+0200
TZNAME:CEST
DTSTART:20250330T010000
END:DAYLIGHT
BEGIN:STANDARD
TZOFFSETFROM:+0200
TZOFFSETTO:+0100
TZNAME:CET
DTSTART:20251026T010000
END:STANDARD
END:VTIMEZONE
BEGIN:VEVENT
DTSTART;TZID=Europe/Berlin:20251101T000000
DTEND;TZID=Europe/Berlin:20251101T235959
DTSTAMP:20260420T201943
CREATED:20250326T093529Z
LAST-MODIFIED:20250326T093530Z
UID:3334-1761955200-1762041599@fwg-oelde.de
SUMMARY:Allerheiligen
DESCRIPTION:Allerheiligen
URL:https://fwg-oelde.de/event/allerheiligen-2-2/
LOCATION:NRW
CATEGORIES:Feiertag_gesetzlich,Feiertag_kirchlich
END:VEVENT
END:VCALENDAR