BEGIN:VCALENDAR
VERSION:2.0
PRODID:-//FWG Oelde - ECPv6.14.2//NONSGML v1.0//EN
CALSCALE:GREGORIAN
METHOD:PUBLISH
X-ORIGINAL-URL:https://fwg-oelde.de
X-WR-CALDESC:Veranstaltungen für FWG Oelde
REFRESH-INTERVAL;VALUE=DURATION:PT1H
X-Robots-Tag:noindex
X-PUBLISHED-TTL:PT1H
BEGIN:VTIMEZONE
TZID:Europe/Berlin
BEGIN:DAYLIGHT
TZOFFSETFROM:+0100
TZOFFSETTO:+0200
TZNAME:CEST
DTSTART:20250330T010000
END:DAYLIGHT
BEGIN:STANDARD
TZOFFSETFROM:+0200
TZOFFSETTO:+0100
TZNAME:CET
DTSTART:20251026T010000
END:STANDARD
END:VTIMEZONE
BEGIN:VEVENT
DTSTART;TZID=Europe/Berlin:20250101T000000
DTEND;TZID=Europe/Berlin:20250101T235959
DTSTAMP:20260421T025802
CREATED:20240216T113654Z
LAST-MODIFIED:20240216T113655Z
UID:1552-1735689600-1735775999@fwg-oelde.de
SUMMARY:Neujahr
DESCRIPTION:Neujahr
URL:https://fwg-oelde.de/event/neujahr-2-2/
LOCATION:NRW
CATEGORIES:Feiertag_gesetzlich
END:VEVENT
BEGIN:VEVENT
DTSTART;TZID=Europe/Berlin:20250120T173000
DTEND;TZID=Europe/Berlin:20250120T190000
DTSTAMP:20260421T025802
CREATED:20250113T175432Z
LAST-MODIFIED:20250113T175433Z
UID:3151-1737394200-1737399600@fwg-oelde.de
SUMMARY:Finanzausschuss und Ausschuss für Wirtschaftsförderung
DESCRIPTION:
URL:https://fwg-oelde.de/event/finanzausschuss-und-ausschuss-fuer-wirtschaftsfoerderung-3-2-2-2-3-2-2-2-2/
LOCATION:Ratssaal groß\, Ratsstiege 1\, Oelde\, NRW\, 59302\, Deutschland
CATEGORIES:Ausschuss
END:VEVENT
BEGIN:VEVENT
DTSTART;TZID=Europe/Berlin:20250123T173000
DTEND;TZID=Europe/Berlin:20250123T190000
DTSTAMP:20260421T025802
CREATED:20250113T175544Z
LAST-MODIFIED:20250113T175836Z
UID:3153-1737653400-1737658800@fwg-oelde.de
SUMMARY:Jugendhilfeausschuss
DESCRIPTION:Jugendhilfeausschuss
URL:https://fwg-oelde.de/event/jugendhilfeausschuss-2-2-2-3-2-2/
LOCATION:Ratssaal groß\, Ratsstiege 1\, Oelde\, NRW\, 59302\, Deutschland
CATEGORIES:Ausschuss
END:VEVENT
BEGIN:VEVENT
DTSTART;TZID=Europe/Berlin:20250127T173000
DTEND;TZID=Europe/Berlin:20250127T200000
DTSTAMP:20260421T025802
CREATED:20250113T180302Z
LAST-MODIFIED:20250113T180302Z
UID:3160-1737999000-1738008000@fwg-oelde.de
SUMMARY:Ausschuss für Soziales\, Familien\, Senioren und gesellschaftliche Teilhabe
DESCRIPTION:
URL:https://fwg-oelde.de/event/ausschuss-fuer-soziales-familien-senioren-und-gesellschaftliche-teilhabe-2-2-2/
LOCATION:Ratssaal groß\, Ratsstiege 1\, Oelde\, NRW\, 59302\, Deutschland
END:VEVENT
BEGIN:VEVENT
DTSTART;TZID=Europe/Berlin:20250128T173000
DTEND;TZID=Europe/Berlin:20250128T193000
DTSTAMP:20260421T025802
CREATED:20250113T175733Z
LAST-MODIFIED:20250113T175735Z
UID:3155-1738085400-1738092600@fwg-oelde.de
SUMMARY:Betriebsausschuss "Forum Oelde"
DESCRIPTION:
URL:https://fwg-oelde.de/event/betriebsausschuss-forum-oelde-2-2-2-2/
LOCATION:Ratssaal groß\, Ratsstiege 1\, Oelde\, NRW\, 59302\, Deutschland
CATEGORIES:Ausschuss
END:VEVENT
BEGIN:VEVENT
DTSTART;TZID=Europe/Berlin:20250130T173000
DTEND;TZID=Europe/Berlin:20250130T190000
DTSTAMP:20260421T025802
CREATED:20250113T175907Z
LAST-MODIFIED:20250113T175908Z
UID:3156-1738258200-1738263600@fwg-oelde.de
SUMMARY:Finanzausschuss und Ausschuss für Wirtschaftsförderung
DESCRIPTION:
URL:https://fwg-oelde.de/event/finanzausschuss-und-ausschuss-fuer-wirtschaftsfoerderung-3-2-2-2-3-3/
LOCATION:Ratssaal groß\, Ratsstiege 1\, Oelde\, NRW\, 59302\, Deutschland
END:VEVENT
END:VCALENDAR