BEGIN:VCALENDAR
VERSION:2.0
PRODID:-//FWG Oelde - ECPv6.14.2//NONSGML v1.0//EN
CALSCALE:GREGORIAN
METHOD:PUBLISH
X-ORIGINAL-URL:https://fwg-oelde.de
X-WR-CALDESC:Veranstaltungen für FWG Oelde
REFRESH-INTERVAL;VALUE=DURATION:PT1H
X-Robots-Tag:noindex
X-PUBLISHED-TTL:PT1H
BEGIN:VTIMEZONE
TZID:Europe/Berlin
BEGIN:DAYLIGHT
TZOFFSETFROM:+0100
TZOFFSETTO:+0200
TZNAME:CEST
DTSTART:20250330T010000
END:DAYLIGHT
BEGIN:STANDARD
TZOFFSETFROM:+0200
TZOFFSETTO:+0100
TZNAME:CET
DTSTART:20251026T010000
END:STANDARD
END:VTIMEZONE
BEGIN:VEVENT
DTSTART;TZID=Europe/Berlin:20250602T171500
DTEND;TZID=Europe/Berlin:20250602T173000
DTSTAMP:20260420T152632
CREATED:20250529T112354Z
LAST-MODIFIED:20250529T112355Z
UID:3492-1748884500-1748885400@fwg-oelde.de
SUMMARY:Hauptausschuss und Ausschuss für Bürgerangelegenheiten
DESCRIPTION:Hauptausschuss
URL:https://fwg-oelde.de/event/jugendhilfeausschuss-2-2-2-3-2-3-3/
LOCATION:Ratssaal groß\, Ratsstiege 1\, Oelde\, NRW\, 59302\, Deutschland
CATEGORIES:Ausschuss
END:VEVENT
BEGIN:VEVENT
DTSTART;TZID=Europe/Berlin:20250602T174500
DTEND;TZID=Europe/Berlin:20250602T213000
DTSTAMP:20260420T152632
CREATED:20250529T112459Z
LAST-MODIFIED:20250529T112500Z
UID:3494-1748886300-1748899800@fwg-oelde.de
SUMMARY:Rat der Stadt Oelde
DESCRIPTION:
URL:https://fwg-oelde.de/event/rat-der-stadt-oelde-2-2-2-2-2-3-2-2-3/
LOCATION:Ratssaal groß\, Ratsstiege 1\, Oelde\, NRW\, 59302\, Deutschland
CATEGORIES:Rat
END:VEVENT
BEGIN:VEVENT
DTSTART;TZID=Europe/Berlin:20250604T173000
DTEND;TZID=Europe/Berlin:20250604T193000
DTSTAMP:20260420T152632
CREATED:20250326T095121Z
LAST-MODIFIED:20250326T095122Z
UID:3355-1749058200-1749065400@fwg-oelde.de
SUMMARY:Bezirksausschuss Lette
DESCRIPTION:Bezirksausschuss Lette
URL:https://fwg-oelde.de/event/bezirksausschuss-lette-2-2-2-2-2-2/
LOCATION:NRW
CATEGORIES:Ausschuss
END:VEVENT
BEGIN:VEVENT
DTSTART;TZID=Europe/Berlin:20250608T000000
DTEND;TZID=Europe/Berlin:20250609T235959
DTSTAMP:20260420T152632
CREATED:20250326T095214Z
LAST-MODIFIED:20250326T095215Z
UID:3357-1749340800-1749513599@fwg-oelde.de
SUMMARY:Pfingsten
DESCRIPTION:Pfingsten
URL:https://fwg-oelde.de/event/pfingsten-2/
LOCATION:NRW
END:VEVENT
BEGIN:VEVENT
DTSTART;TZID=Europe/Berlin:20250611T173000
DTEND;TZID=Europe/Berlin:20250611T193000
DTSTAMP:20260420T152632
CREATED:20250326T095337Z
LAST-MODIFIED:20250326T095338Z
UID:3359-1749663000-1749670200@fwg-oelde.de
SUMMARY:Ausschuss für Umwelt\, Energie\, Mobilität und Verkehr
DESCRIPTION:Umweltausschuss
URL:https://fwg-oelde.de/event/ausschuss-fuer-umwelt-energie-mobilitaet-und-verkehr-3-2-2-2/
LOCATION:Ratssaal groß\, Ratsstiege 1\, Oelde\, NRW\, 59302\, Deutschland
CATEGORIES:Ausschuss
END:VEVENT
BEGIN:VEVENT
DTSTART;TZID=Europe/Berlin:20250612T173000
DTEND;TZID=Europe/Berlin:20250612T200000
DTSTAMP:20260420T152632
CREATED:20250326T095500Z
LAST-MODIFIED:20250326T095501Z
UID:3361-1749749400-1749758400@fwg-oelde.de
SUMMARY:Ausschuss für Soziales\, Familien\, Senioren und gesellschaftliche Teilhabe
DESCRIPTION:Ausschuss Soziales
URL:https://fwg-oelde.de/event/ausschuss-fuer-soziales-familien-senioren-und-gesellschaftliche-teilhabe-2-2-2-2/
LOCATION:Ratssaal groß\, Ratsstiege 1\, Oelde\, NRW\, 59302\, Deutschland
CATEGORIES:Ausschuss
END:VEVENT
BEGIN:VEVENT
DTSTART;TZID=Europe/Berlin:20250617T173000
DTEND;TZID=Europe/Berlin:20250617T193000
DTSTAMP:20260420T152632
CREATED:20250326T095721Z
LAST-MODIFIED:20250326T095722Z
UID:3363-1750181400-1750188600@fwg-oelde.de
SUMMARY:Bezirksausschuss Stromberg
DESCRIPTION:Bezirksausschuss Stromberg
URL:https://fwg-oelde.de/event/1193-3-2/
LOCATION:59302 Oelde\, Alte Vikarie\, Münsterstraße 37\, Münsterstraße 37\, Oelde\, NRW\, 59302\, Deutschland
CATEGORIES:Ausschuss
END:VEVENT
BEGIN:VEVENT
DTSTART;TZID=Europe/Berlin:20250619T000000
DTEND;TZID=Europe/Berlin:20250619T235959
DTSTAMP:20260420T152632
CREATED:20250326T095817Z
LAST-MODIFIED:20250326T095818Z
UID:3365-1750291200-1750377599@fwg-oelde.de
SUMMARY:Fronleichnam
DESCRIPTION:Fronleichnam
URL:https://fwg-oelde.de/event/fronleichnam-2/
LOCATION:NRW
CATEGORIES:Feiertag_kirchlich
END:VEVENT
BEGIN:VEVENT
DTSTART;TZID=Europe/Berlin:20250624T173000
DTEND;TZID=Europe/Berlin:20250624T193000
DTSTAMP:20260420T152632
CREATED:20250326T095924Z
LAST-MODIFIED:20250326T095925Z
UID:3367-1750786200-1750793400@fwg-oelde.de
SUMMARY:Betriebsausschuss "Forum Oelde"
DESCRIPTION:Betriebsausschuss „Forum Oelde“
URL:https://fwg-oelde.de/event/betriebsausschuss-forum-oelde-2-2-2-2-2/
LOCATION:Ratssaal groß\, Ratsstiege 1\, Oelde\, NRW\, 59302\, Deutschland
CATEGORIES:Ausschuss
END:VEVENT
BEGIN:VEVENT
DTSTART;TZID=Europe/Berlin:20250625T173000
DTEND;TZID=Europe/Berlin:20250625T203000
DTSTAMP:20260420T152632
CREATED:20250326T100042Z
LAST-MODIFIED:20250326T100043Z
UID:3369-1750872600-1750883400@fwg-oelde.de
SUMMARY:Ausschuss für Planung\, Stadtentwicklung\, Wohnen und Digitalisierung
DESCRIPTION:Ausschuss für Planung\, Stadtentwicklung\, Wohnen und Digitalisierung
URL:https://fwg-oelde.de/event/ausschuss-fuer-planung-stadtentwicklung-wohnen-und-digitalisierung-2-2-3-2-2-2-3-2-2/
LOCATION:Ratssaal groß\, Ratsstiege 1\, Oelde\, NRW\, 59302\, Deutschland
CATEGORIES:Ausschuss
END:VEVENT
BEGIN:VEVENT
DTSTART;TZID=Europe/Berlin:20250626T173000
DTEND;TZID=Europe/Berlin:20250626T193000
DTSTAMP:20260420T152632
CREATED:20250326T100214Z
LAST-MODIFIED:20250326T100215Z
UID:3371-1750959000-1750966200@fwg-oelde.de
SUMMARY:Jugendhilfeausschuss
DESCRIPTION:Jugendhilfeausschuss
URL:https://fwg-oelde.de/event/jugendhilfeausschuss-2-2-2-3-2-2-2/
LOCATION:Ratssaal groß\, Ratsstiege 1\, Oelde\, NRW\, 59302\, Deutschland
CATEGORIES:Ausschuss
END:VEVENT
BEGIN:VEVENT
DTSTART;TZID=Europe/Berlin:20250630T173000
DTEND;TZID=Europe/Berlin:20250630T190000
DTSTAMP:20260420T152632
CREATED:20250326T100425Z
LAST-MODIFIED:20250326T100426Z
UID:3373-1751304600-1751310000@fwg-oelde.de
SUMMARY:Finanzausschuss und Ausschuss für Wirtschaftsförderung
DESCRIPTION:Finanzausschuss
URL:https://fwg-oelde.de/event/finanzausschuss-und-ausschuss-fuer-wirtschaftsfoerderung-3-2-2-2-3-3-2-2/
LOCATION:Ratssaal groß\, Ratsstiege 1\, Oelde\, NRW\, 59302\, Deutschland
CATEGORIES:Ausschuss
END:VEVENT
END:VCALENDAR