BEGIN:VCALENDAR
VERSION:2.0
PRODID:-//FWG Oelde - ECPv6.14.2//NONSGML v1.0//EN
CALSCALE:GREGORIAN
METHOD:PUBLISH
X-WR-CALNAME:FWG Oelde
X-ORIGINAL-URL:https://fwg-oelde.de
X-WR-CALDESC:Veranstaltungen für FWG Oelde
REFRESH-INTERVAL;VALUE=DURATION:PT1H
X-Robots-Tag:noindex
X-PUBLISHED-TTL:PT1H
BEGIN:VTIMEZONE
TZID:Europe/Berlin
BEGIN:DAYLIGHT
TZOFFSETFROM:+0100
TZOFFSETTO:+0200
TZNAME:CEST
DTSTART:20260329T010000
END:DAYLIGHT
BEGIN:STANDARD
TZOFFSETFROM:+0200
TZOFFSETTO:+0100
TZNAME:CET
DTSTART:20261025T010000
END:STANDARD
END:VTIMEZONE
BEGIN:VEVENT
DTSTART;TZID=Europe/Berlin:20260101T000000
DTEND;TZID=Europe/Berlin:20260101T235959
DTSTAMP:20260421T074253
CREATED:20240216T113429Z
LAST-MODIFIED:20240216T113723Z
UID:1548-1767225600-1767311999@fwg-oelde.de
SUMMARY:Neujahr
DESCRIPTION:Neujahr
URL:https://fwg-oelde.de/event/neujahr-2/
LOCATION:NRW
CATEGORIES:Feiertag_gesetzlich
END:VEVENT
END:VCALENDAR